BEGIN:VCALENDAR
VERSION:2.0
PRODID:spatie/icalendar-generator
DESCRIPTION:Events from Fort White Gun Club
X-WR-CALDESC:Events from Fort White Gun Club
REFRESH-INTERVAL;VALUE=DURATION:PT1440M
X-PUBLISHED-TTL:PT1440M
BEGIN:VTIMEZONE
TZID:Etc/GMT+0
BEGIN:STANDARD
DTSTART:20250814T100000Z
TZOFFSETFROM:+0000
TZOFFSETTO:+0000
END:STANDARD
END:VTIMEZONE
BEGIN:VTIMEZONE
TZID:UTC
BEGIN:STANDARD
DTSTART:20250727T084232Z
TZOFFSETFROM:+0000
TZOFFSETTO:+0000
END:STANDARD
END:VTIMEZONE
BEGIN:VEVENT
UID:1487-5
DTSTAMP:20260423T084232Z
SUMMARY:22 Long Ranger
LOCATION:Rifle Range
ORGANIZER;CN=admin:MAILTO:admin@jesseman.org
RRULE:FREQ=MONTHLY;BYDAY=2MO;UNTIL=20261231T000000Z
DTSTART;TZID=Etc/GMT+0:20260511T100000
DTEND;TZID=Etc/GMT+0:20260511T110000
X-ALT-DESC;FMTTYPE=TEXT/HTML:
CATEGORIES:Rifle
URL;VALUE=URI:https://fortwhitegunclub.org/mc-events/22-long-ranger/?mc_id=
 1487
METHOD:PUBLISH
END:VEVENT
END:VCALENDAR