BEGIN:VCALENDAR
VERSION:2.0
PRODID:spatie/icalendar-generator
DESCRIPTION:Events from Fort White Gun Club
X-WR-CALDESC:Events from Fort White Gun Club
REFRESH-INTERVAL;VALUE=DURATION:PT1440M
X-PUBLISHED-TTL:PT1440M
BEGIN:VTIMEZONE
TZID:Etc/GMT+0
BEGIN:STANDARD
DTSTART:20250715T103000Z
TZOFFSETFROM:+0000
TZOFFSETTO:+0000
END:STANDARD
END:VTIMEZONE
BEGIN:VTIMEZONE
TZID:UTC
BEGIN:STANDARD
DTSTART:20250727T065742Z
TZOFFSETFROM:+0000
TZOFFSETTO:+0000
END:STANDARD
END:VTIMEZONE
BEGIN:VEVENT
UID:918-50
DTSTAMP:20260423T065742Z
SUMMARY:Precicion Pistol
LOCATION:
ORGANIZER;CN=Bruce Antognoni:MAILTO:antognoniba@gmail.com
RRULE:FREQ=MONTHLY;BYDAY=2SA;UNTIL=20261231T000000Z
DTSTART;TZID=Etc/GMT+0:20260411T103000
DTEND;TZID=Etc/GMT+0:20260411T113000
X-ALT-DESC;FMTTYPE=TEXT/HTML:
CATEGORIES:Pistol
URL;VALUE=URI:https://fortwhitegunclub.org/mc-events/precicion-pistol/?mc_i
 d=918
METHOD:PUBLISH
END:VEVENT
END:VCALENDAR