BEGIN:VCALENDAR
VERSION:2.0
PRODID:spatie/icalendar-generator
DESCRIPTION:Events from Fort White Gun Club
X-WR-CALDESC:Events from Fort White Gun Club
REFRESH-INTERVAL;VALUE=DURATION:PT1440M
X-PUBLISHED-TTL:PT1440M
BEGIN:VTIMEZONE
TZID:Etc/GMT+0
BEGIN:STANDARD
DTSTART:20250104T130000Z
TZOFFSETFROM:+0000
TZOFFSETTO:+0000
END:STANDARD
END:VTIMEZONE
BEGIN:VTIMEZONE
TZID:UTC
BEGIN:STANDARD
DTSTART:20250727T101534Z
TZOFFSETFROM:+0000
TZOFFSETTO:+0000
END:STANDARD
END:VTIMEZONE
BEGIN:VEVENT
UID:505-23
DTSTAMP:20260423T101534Z
SUMMARY:Sporting Clays
LOCATION:Sporting Clays Range
ORGANIZER;CN=admin:MAILTO:admin@jesseman.org
RRULE:FREQ=WEEKLY;UNTIL=20260430T000000Z
DTSTART;TZID=Etc/GMT+0:20251001T130000
DTEND;TZID=Etc/GMT+0:20251001T150000
X-ALT-DESC;FMTTYPE=TEXT/HTML:
CATEGORIES:Clays
URL;VALUE=URI:https://fortwhitegunclub.org/mc-events/sporting-clays-6/?mc_i
 d=505
METHOD:PUBLISH
END:VEVENT
END:VCALENDAR