BEGIN:VCALENDAR
VERSION:2.0
PRODID:spatie/icalendar-generator
DESCRIPTION:Events from Fort White Gun Club
X-WR-CALDESC:Events from Fort White Gun Club
REFRESH-INTERVAL;VALUE=DURATION:PT1440M
X-PUBLISHED-TTL:PT1440M
BEGIN:VTIMEZONE
TZID:Etc/GMT+0
BEGIN:STANDARD
DTSTART:20250616T100000Z
TZOFFSETFROM:+0000
TZOFFSETTO:+0000
END:STANDARD
END:VTIMEZONE
BEGIN:VTIMEZONE
TZID:UTC
BEGIN:STANDARD
DTSTART:20250727T110309Z
TZOFFSETFROM:+0000
TZOFFSETTO:+0000
END:STANDARD
END:VTIMEZONE
BEGIN:VEVENT
UID:1940-46
DTSTAMP:20260423T110309Z
SUMMARY:Rims A’Fire
LOCATION:Rifle Range
ORGANIZER;CN=Bruce Antognoni:MAILTO:antognoniba@gmail.com
RRULE:FREQ=MONTHLY;BYDAY=2FR;UNTIL=20261231T000000Z
DTSTART;TZID=Etc/GMT+0:20260313T100000
DTEND;TZID=Etc/GMT+0:20260313T120000
X-ALT-DESC;FMTTYPE=TEXT/HTML:
CATEGORIES:Rifle
URL;VALUE=URI:https://fortwhitegunclub.org/mc-events/rims-afire-4/?mc_id=19
 40
METHOD:PUBLISH
END:VEVENT
END:VCALENDAR