BEGIN:VCALENDAR
VERSION:2.0
PRODID:spatie/icalendar-generator
DESCRIPTION:Events from Fort White Gun Club
X-WR-CALDESC:Events from Fort White Gun Club
REFRESH-INTERVAL;VALUE=DURATION:PT1440M
X-PUBLISHED-TTL:PT1440M
BEGIN:VTIMEZONE
TZID:Etc/GMT+0
BEGIN:STANDARD
DTSTART:20250710T110000Z
TZOFFSETFROM:+0000
TZOFFSETTO:+0000
END:STANDARD
END:VTIMEZONE
BEGIN:VTIMEZONE
TZID:UTC
BEGIN:STANDARD
DTSTART:20250727T070545Z
TZOFFSETFROM:+0000
TZOFFSETTO:+0000
END:STANDARD
END:VTIMEZONE
BEGIN:VEVENT
UID:1695-51
DTSTAMP:20260423T070545Z
SUMMARY:Trap
LOCATION:
ORGANIZER;CN=Bruce Antognoni:MAILTO:antognoniba@gmail.com
RRULE:FREQ=WEEKLY;UNTIL=20261231T000000Z
DTSTART;TZID=Etc/GMT+0:20260406T110000
DTEND;TZID=Etc/GMT+0:20260406T130000
X-ALT-DESC;FMTTYPE=TEXT/HTML:
CATEGORIES:Clays
URL;VALUE=URI:https://fortwhitegunclub.org/mc-events/trap-3/?mc_id=1695
METHOD:PUBLISH
END:VEVENT
END:VCALENDAR