BEGIN:VCALENDAR
VERSION:2.0
PRODID:spatie/icalendar-generator
DESCRIPTION:Events from Fort White Gun Club
X-WR-CALDESC:Events from Fort White Gun Club
REFRESH-INTERVAL;VALUE=DURATION:PT1440M
X-PUBLISHED-TTL:PT1440M
BEGIN:VTIMEZONE
TZID:Etc/GMT+0
BEGIN:STANDARD
DTSTART:20250908T080000Z
TZOFFSETFROM:+0000
TZOFFSETTO:+0000
END:STANDARD
END:VTIMEZONE
BEGIN:VTIMEZONE
TZID:UTC
BEGIN:STANDARD
DTSTART:20250727T082921Z
TZOFFSETFROM:+0000
TZOFFSETTO:+0000
END:STANDARD
END:VTIMEZONE
BEGIN:VEVENT
UID:1669-12
DTSTAMP:20260423T082921Z
SUMMARY:Workday
LOCATION:Club House
ORGANIZER;CN=admin:MAILTO:admin@jesseman.org
RRULE:FREQ=MONTHLY;BYDAY=1FR;UNTIL=20261231T000000Z
DTSTART;TZID=Etc/GMT+0:20260605T080000
DTEND;TZID=Etc/GMT+0:20260605T120000
X-ALT-DESC;FMTTYPE=TEXT/HTML:
CATEGORIES:Workday
URL;VALUE=URI:https://fortwhitegunclub.org/mc-events/workday/?mc_id=1669
METHOD:PUBLISH
END:VEVENT
END:VCALENDAR