BEGIN:VCALENDAR
VERSION:2.0
PRODID:spatie/icalendar-generator
DESCRIPTION:Events from Fort White Gun Club
X-WR-CALDESC:Events from Fort White Gun Club
REFRESH-INTERVAL;VALUE=DURATION:PT1440M
X-PUBLISHED-TTL:PT1440M
BEGIN:VTIMEZONE
TZID:Etc/GMT+0
BEGIN:STANDARD
DTSTART:20231114T090000Z
TZOFFSETFROM:+0000
TZOFFSETTO:+0000
END:STANDARD
END:VTIMEZONE
BEGIN:VTIMEZONE
TZID:UTC
BEGIN:STANDARD
DTSTART:20250727T102129Z
TZOFFSETFROM:+0000
TZOFFSETTO:+0000
END:STANDARD
END:VTIMEZONE
BEGIN:VEVENT
UID:1618-2
DTSTAMP:20260423T102129Z
SUMMARY:Cowboy Action
LOCATION:Cowboy Range
ORGANIZER;CN=admin:MAILTO:admin@jesseman.org
RRULE:FREQ=MONTHLY;BYDAY=2SA;UNTIL=20261231T000000Z
DTSTART;TZID=Etc/GMT+0:20240810T090000
DTEND;TZID=Etc/GMT+0:20240810T143000
X-ALT-DESC;FMTTYPE=TEXT/HTML:
CATEGORIES:Cowboy
URL;VALUE=URI:https://fortwhitegunclub.org/mc-events/cowboy-action/?mc_id=1
 618
METHOD:PUBLISH
END:VEVENT
END:VCALENDAR