BEGIN:VCALENDAR
VERSION:2.0
PRODID:spatie/icalendar-generator
DESCRIPTION:Events from Fort White Gun Club
X-WR-CALDESC:Events from Fort White Gun Club
REFRESH-INTERVAL;VALUE=DURATION:PT1440M
X-PUBLISHED-TTL:PT1440M
BEGIN:VTIMEZONE
TZID:Etc/GMT+0
BEGIN:STANDARD
DTSTART:20250827T130000Z
TZOFFSETFROM:+0000
TZOFFSETTO:+0000
END:STANDARD
END:VTIMEZONE
BEGIN:VTIMEZONE
TZID:UTC
BEGIN:STANDARD
DTSTART:20250727T082306Z
TZOFFSETFROM:+0000
TZOFFSETTO:+0000
END:STANDARD
END:VTIMEZONE
BEGIN:VEVENT
UID:1610-3
DTSTAMP:20260423T082306Z
SUMMARY:22 Fun Match
LOCATION:Pistol Range
ORGANIZER;CN=admin:MAILTO:admin@jesseman.org
RRULE:FREQ=MONTHLY;BYDAY=4SU;UNTIL=20261231T000000Z
DTSTART;TZID=Etc/GMT+0:20260524T130000
DTEND;TZID=Etc/GMT+0:20260524T150000
X-ALT-DESC;FMTTYPE=TEXT/HTML:
CATEGORIES:Pistol
URL;VALUE=URI:https://fortwhitegunclub.org/mc-events/22-fun-match/?mc_id=16
 10
METHOD:PUBLISH
END:VEVENT
END:VCALENDAR