BEGIN:VCALENDAR
VERSION:2.0
PRODID:spatie/icalendar-generator
DESCRIPTION:Events from Fort White Gun Club
X-WR-CALDESC:Events from Fort White Gun Club
REFRESH-INTERVAL;VALUE=DURATION:PT1440M
X-PUBLISHED-TTL:PT1440M
BEGIN:VTIMEZONE
TZID:Etc/GMT+0
BEGIN:STANDARD
DTSTART:20250807T100000Z
TZOFFSETFROM:+0000
TZOFFSETTO:+0000
END:STANDARD
END:VTIMEZONE
BEGIN:VTIMEZONE
TZID:UTC
BEGIN:STANDARD
DTSTART:20250727T084632Z
TZOFFSETFROM:+0000
TZOFFSETTO:+0000
END:STANDARD
END:VTIMEZONE
BEGIN:VEVENT
UID:1512-4
DTSTAMP:20260423T084632Z
SUMMARY:New Age Steel Plate
LOCATION:Pistol Range
ORGANIZER;CN=admin:MAILTO:admin@jesseman.org
RRULE:FREQ=MONTHLY;BYDAY=1MO;UNTIL=20261231T000000Z
DTSTART;TZID=Etc/GMT+0:20260504T100000
DTEND;TZID=Etc/GMT+0:20260504T120000
X-ALT-DESC;FMTTYPE=TEXT/HTML:
CATEGORIES:Pistol
URL;VALUE=URI:https://fortwhitegunclub.org/mc-events/new-age-steel-plate/?m
 c_id=1512
METHOD:PUBLISH
END:VEVENT
END:VCALENDAR