BEGIN:VCALENDAR
VERSION:2.0
PRODID:spatie/icalendar-generator
DESCRIPTION:Events from Fort White Gun Club
X-WR-CALDESC:Events from Fort White Gun Club
REFRESH-INTERVAL;VALUE=DURATION:PT1440M
X-PUBLISHED-TTL:PT1440M
BEGIN:VTIMEZONE
TZID:Etc/GMT+0
BEGIN:STANDARD
DTSTART:20240307T100000Z
TZOFFSETFROM:+0000
TZOFFSETTO:+0000
END:STANDARD
END:VTIMEZONE
BEGIN:VTIMEZONE
TZID:UTC
BEGIN:STANDARD
DTSTART:20250727T102649Z
TZOFFSETFROM:+0000
TZOFFSETTO:+0000
END:STANDARD
END:VTIMEZONE
BEGIN:VEVENT
UID:1495-4
DTSTAMP:20260423T102649Z
SUMMARY:New Age Steel Plate
LOCATION:Pistol Range
ORGANIZER;CN=admin:MAILTO:admin@jesseman.org
RRULE:FREQ=MONTHLY;BYDAY=1MO;UNTIL=20261231T000000Z
DTSTART;TZID=Etc/GMT+0:20241202T100000
DTEND;TZID=Etc/GMT+0:20241202T120000
X-ALT-DESC;FMTTYPE=TEXT/HTML:
CATEGORIES:Pistol
URL;VALUE=URI:https://fortwhitegunclub.org/mc-events/new-age-steel-plate/?m
 c_id=1495
METHOD:PUBLISH
END:VEVENT
END:VCALENDAR