BEGIN:VCALENDAR
VERSION:2.0
PRODID:spatie/icalendar-generator
DESCRIPTION:Events from Fort White Gun Club
X-WR-CALDESC:Events from Fort White Gun Club
REFRESH-INTERVAL;VALUE=DURATION:PT1440M
X-PUBLISHED-TTL:PT1440M
BEGIN:VTIMEZONE
TZID:Etc/GMT+0
BEGIN:STANDARD
DTSTART:20250818T100000Z
TZOFFSETFROM:+0000
TZOFFSETTO:+0000
END:STANDARD
END:VTIMEZONE
BEGIN:VTIMEZONE
TZID:UTC
BEGIN:STANDARD
DTSTART:20250727T084554Z
TZOFFSETFROM:+0000
TZOFFSETTO:+0000
END:STANDARD
END:VTIMEZONE
BEGIN:VEVENT
UID:1465-6
DTSTAMP:20260423T084554Z
SUMMARY:New Age Steel Plate
LOCATION:Pistol Range
ORGANIZER;CN=admin:MAILTO:admin@jesseman.org
RRULE:FREQ=MONTHLY;BYDAY=3FR;UNTIL=20261231T000000Z
DTSTART;TZID=Etc/GMT+0:20260515T100000
DTEND;TZID=Etc/GMT+0:20260515T120000
X-ALT-DESC;FMTTYPE=TEXT/HTML:
CATEGORIES:Pistol
URL;VALUE=URI:https://fortwhitegunclub.org/mc-events/new-age-steel-plate-2/
 ?mc_id=1465
METHOD:PUBLISH
END:VEVENT
END:VCALENDAR