BEGIN:VCALENDAR
VERSION:2.0
PRODID:spatie/icalendar-generator
DESCRIPTION:Events from Fort White Gun Club
X-WR-CALDESC:Events from Fort White Gun Club
REFRESH-INTERVAL;VALUE=DURATION:PT1440M
X-PUBLISHED-TTL:PT1440M
BEGIN:VTIMEZONE
TZID:Etc/GMT+0
BEGIN:STANDARD
DTSTART:20250731T100000Z
TZOFFSETFROM:+0000
TZOFFSETTO:+0000
END:STANDARD
END:VTIMEZONE
BEGIN:VTIMEZONE
TZID:UTC
BEGIN:STANDARD
DTSTART:20250727T065838Z
TZOFFSETFROM:+0000
TZOFFSETTO:+0000
END:STANDARD
END:VTIMEZONE
BEGIN:VEVENT
UID:1438-7
DTSTAMP:20260423T065838Z
SUMMARY:22 Long Ranger
LOCATION:Rifle Range
ORGANIZER;CN=admin:MAILTO:admin@jesseman.org
RRULE:FREQ=MONTHLY;BYDAY=4MO;UNTIL=20261231T000000Z
DTSTART;TZID=Etc/GMT+0:20260427T100000
DTEND;TZID=Etc/GMT+0:20260427T110000
X-ALT-DESC;FMTTYPE=TEXT/HTML:
CATEGORIES:Rifle
URL;VALUE=URI:https://fortwhitegunclub.org/mc-events/22-long-ranger-2/?mc_i
 d=1438
METHOD:PUBLISH
END:VEVENT
END:VCALENDAR