BEGIN:VCALENDAR
VERSION:2.0
PRODID:spatie/icalendar-generator
DESCRIPTION:Events from Fort White Gun Club
X-WR-CALDESC:Events from Fort White Gun Club
REFRESH-INTERVAL;VALUE=DURATION:PT1440M
X-PUBLISHED-TTL:PT1440M
BEGIN:VTIMEZONE
TZID:Etc/GMT+0
BEGIN:STANDARD
DTSTART:20250718T170000Z
TZOFFSETFROM:+0000
TZOFFSETTO:+0000
END:STANDARD
END:VTIMEZONE
BEGIN:VTIMEZONE
TZID:UTC
BEGIN:STANDARD
DTSTART:20250727T071021Z
TZOFFSETFROM:+0000
TZOFFSETTO:+0000
END:STANDARD
END:VTIMEZONE
BEGIN:VEVENT
UID:1349-11
DTSTAMP:20260423T071021Z
SUMMARY:Board Meeting
LOCATION:Club House
ORGANIZER;CN=admin:MAILTO:admin@jesseman.org
RRULE:FREQ=MONTHLY;BYDAY=2TU;UNTIL=20261208T000000Z
DTSTART;TZID=Etc/GMT+0:20260414T170000
DTEND;TZID=Etc/GMT+0:20260414T190000
X-ALT-DESC;FMTTYPE=TEXT/HTML:
CATEGORIES:Board
URL;VALUE=URI:https://fortwhitegunclub.org/mc-events/board-meeting/?mc_id=1
 349
METHOD:PUBLISH
END:VEVENT
END:VCALENDAR