BEGIN:VCALENDAR
VERSION:2.0
PRODID:spatie/icalendar-generator
DESCRIPTION:Events from Fort White Gun Club
X-WR-CALDESC:Events from Fort White Gun Club
REFRESH-INTERVAL;VALUE=DURATION:PT1440M
X-PUBLISHED-TTL:PT1440M
BEGIN:VTIMEZONE
TZID:Etc/GMT+0
BEGIN:STANDARD
DTSTART:20231107T120000Z
TZOFFSETFROM:+0000
TZOFFSETTO:+0000
END:STANDARD
END:VTIMEZONE
BEGIN:VTIMEZONE
TZID:UTC
BEGIN:STANDARD
DTSTART:20250727T102515Z
TZOFFSETFROM:+0000
TZOFFSETTO:+0000
END:STANDARD
END:VTIMEZONE
BEGIN:VEVENT
UID:1225-21
DTSTAMP:20260423T102515Z
SUMMARY:Enemy at the Gate
LOCATION:Rifle Range
ORGANIZER;CN=admin:MAILTO:admin@jesseman.org
RRULE:FREQ=MONTHLY;BYDAY=1SA;UNTIL=20261231T000000Z
DTSTART;TZID=Etc/GMT+0:20240803T120000
DTEND;TZID=Etc/GMT+0:20240803T150000
X-ALT-DESC;FMTTYPE=TEXT/HTML:
CATEGORIES:Rifle
URL;VALUE=URI:https://fortwhitegunclub.org/mc-events/enemy-at-the-gate/?mc_
 id=1225
METHOD:PUBLISH
END:VEVENT
END:VCALENDAR