BEGIN:VCALENDAR
VERSION:2.0
PRODID:spatie/icalendar-generator
DESCRIPTION:Events from Fort White Gun Club
X-WR-CALDESC:Events from Fort White Gun Club
REFRESH-INTERVAL;VALUE=DURATION:PT1440M
X-PUBLISHED-TTL:PT1440M
BEGIN:VTIMEZONE
TZID:Etc/GMT+0
BEGIN:STANDARD
DTSTART:20250809T090000Z
TZOFFSETFROM:+0000
TZOFFSETTO:+0000
END:STANDARD
END:VTIMEZONE
BEGIN:VTIMEZONE
TZID:UTC
BEGIN:STANDARD
DTSTART:20250727T084554Z
TZOFFSETFROM:+0000
TZOFFSETTO:+0000
END:STANDARD
END:VTIMEZONE
BEGIN:VEVENT
UID:1204-22
DTSTAMP:20260423T084554Z
SUMMARY:Sporting Clays
LOCATION:Sporting Clays Range
ORGANIZER;CN=admin:MAILTO:admin@jesseman.org
RRULE:FREQ=WEEKLY;UNTIL=20260930T000000Z
DTSTART;TZID=Etc/GMT+0:20260506T090000
DTEND;TZID=Etc/GMT+0:20260506T120000
X-ALT-DESC;FMTTYPE=TEXT/HTML:
CATEGORIES:Clays
URL;VALUE=URI:https://fortwhitegunclub.org/mc-events/sporting-clays-5/?mc_i
 d=1204
METHOD:PUBLISH
END:VEVENT
END:VCALENDAR