BEGIN:VCALENDAR
VERSION:2.0
PRODID:spatie/icalendar-generator
DESCRIPTION:Events from Fort White Gun Club
X-WR-CALDESC:Events from Fort White Gun Club
REFRESH-INTERVAL;VALUE=DURATION:PT1440M
X-PUBLISHED-TTL:PT1440M
BEGIN:VTIMEZONE
TZID:Etc/GMT+0
BEGIN:STANDARD
DTSTART:20250819T100000Z
TZOFFSETFROM:+0000
TZOFFSETTO:+0000
END:STANDARD
END:VTIMEZONE
BEGIN:VTIMEZONE
TZID:UTC
BEGIN:STANDARD
DTSTART:20250727T083720Z
TZOFFSETFROM:+0000
TZOFFSETTO:+0000
END:STANDARD
END:VTIMEZONE
BEGIN:VEVENT
UID:1167-27
DTSTAMP:20260423T083720Z
SUMMARY:Urban Cowboy
LOCATION:Cowboy Range
ORGANIZER;CN=admin:MAILTO:admin@jesseman.org
RRULE:FREQ=MONTHLY;BYDAY=3SA;UNTIL=20261231T000000Z
DTSTART;TZID=Etc/GMT+0:20260516T100000
DTEND;TZID=Etc/GMT+0:20260516T130000
X-ALT-DESC;FMTTYPE=TEXT/HTML:
CATEGORIES:Cowboy
URL;VALUE=URI:https://fortwhitegunclub.org/mc-events/urban-cowboy/?mc_id=11
 67
METHOD:PUBLISH
END:VEVENT
END:VCALENDAR