BEGIN:VCALENDAR
VERSION:2.0
PRODID:spatie/icalendar-generator
DESCRIPTION:Events from Fort White Gun Club
X-WR-CALDESC:Events from Fort White Gun Club
REFRESH-INTERVAL;VALUE=DURATION:PT1440M
X-PUBLISHED-TTL:PT1440M
BEGIN:VTIMEZONE
TZID:Etc/GMT+0
BEGIN:STANDARD
DTSTART:20250630T100000Z
TZOFFSETFROM:+0000
TZOFFSETTO:+0000
END:STANDARD
END:VTIMEZONE
BEGIN:VTIMEZONE
TZID:UTC
BEGIN:STANDARD
DTSTART:20250727T103242Z
TZOFFSETFROM:+0000
TZOFFSETTO:+0000
END:STANDARD
END:VTIMEZONE
BEGIN:VEVENT
UID:1088-44
DTSTAMP:20260423T103242Z
SUMMARY:Rims A'Fire
LOCATION:
ORGANIZER;CN=admin:MAILTO:admin@jesseman.org
RRULE:FREQ=MONTHLY;BYDAY=4FR;UNTIL=20261030T000000Z
DTSTART;TZID=Etc/GMT+0:20260327T100000
DTEND;TZID=Etc/GMT+0:20260327T120000
X-ALT-DESC;FMTTYPE=TEXT/HTML:
CATEGORIES:Rifle
URL;VALUE=URI:https://fortwhitegunclub.org/mc-events/rims-afire-3/?mc_id=10
 88
METHOD:PUBLISH
END:VEVENT
END:VCALENDAR